BEGIN:VCALENDAR
VERSION:2.0
PRODID:-//Toulouse Congrès - ECPv6.15.17//NONSGML v1.0//EN
CALSCALE:GREGORIAN
METHOD:PUBLISH
X-ORIGINAL-URL:https://www.toulousecongres.com
X-WR-CALDESC:Évènements pour Toulouse Congrès
REFRESH-INTERVAL;VALUE=DURATION:PT1H
X-Robots-Tag:noindex
X-PUBLISHED-TTL:PT1H
BEGIN:VTIMEZONE
TZID:Europe/Paris
BEGIN:DAYLIGHT
TZOFFSETFROM:+0100
TZOFFSETTO:+0200
TZNAME:CEST
DTSTART:20250330T010000
END:DAYLIGHT
BEGIN:STANDARD
TZOFFSETFROM:+0200
TZOFFSETTO:+0100
TZNAME:CET
DTSTART:20251026T010000
END:STANDARD
BEGIN:DAYLIGHT
TZOFFSETFROM:+0100
TZOFFSETTO:+0200
TZNAME:CEST
DTSTART:20260329T010000
END:DAYLIGHT
BEGIN:STANDARD
TZOFFSETFROM:+0200
TZOFFSETTO:+0100
TZNAME:CET
DTSTART:20261025T010000
END:STANDARD
BEGIN:DAYLIGHT
TZOFFSETFROM:+0100
TZOFFSETTO:+0200
TZNAME:CEST
DTSTART:20270328T010000
END:DAYLIGHT
BEGIN:STANDARD
TZOFFSETFROM:+0200
TZOFFSETTO:+0100
TZNAME:CET
DTSTART:20271031T010000
END:STANDARD
BEGIN:DAYLIGHT
TZOFFSETFROM:+0100
TZOFFSETTO:+0200
TZNAME:CEST
DTSTART:20280326T010000
END:DAYLIGHT
BEGIN:STANDARD
TZOFFSETFROM:+0200
TZOFFSETTO:+0100
TZNAME:CET
DTSTART:20281029T010000
END:STANDARD
BEGIN:DAYLIGHT
TZOFFSETFROM:+0100
TZOFFSETTO:+0200
TZNAME:CEST
DTSTART:20290325T010000
END:DAYLIGHT
BEGIN:STANDARD
TZOFFSETFROM:+0200
TZOFFSETTO:+0100
TZNAME:CET
DTSTART:20291028T010000
END:STANDARD
END:VTIMEZONE
BEGIN:VEVENT
DTSTART;TZID=Europe/Paris:20270610T080000
DTEND;TZID=Europe/Paris:20270612T170000
DTSTAMP:20260421T142010
CREATED:20251104T113021Z
LAST-MODIFIED:20260227T143018Z
UID:2239-1812614400-1812819600@www.toulousecongres.com
SUMMARY:Congrès SFPIO 2027
DESCRIPTION:Plus d’informations ici.
URL:https://www.toulousecongres.com/evenement/congres-sfpio-2027/
LOCATION:Centre de Congrès Pierre Baudis\, 11 Esp. Compans Caffarelli\, TOULOUSE\, 31000\, France
CATEGORIES:Congrès
ATTACH;FMTTYPE=image/png:https://www.toulousecongres.com/wp-content/uploads/2024/03/BAT-BAUDIS.png
END:VEVENT
BEGIN:VEVENT
DTSTART;VALUE=DATE:20261014
DTEND;VALUE=DATE:20261015
DTSTAMP:20260421T142010
CREATED:20260119T131744Z
LAST-MODIFIED:20260227T143036Z
UID:2485-1791936000-1792022399@www.toulousecongres.com
SUMMARY:Forum Sud-Ouest Major Prépa
DESCRIPTION:Plus d’informations ici.
URL:https://www.toulousecongres.com/evenement/forum-sud-ouest-major-prepa/
LOCATION:Espaces Vanel\, 1 All. Jacques Chaban-Delmas\, TOULOUSE\, 31500\, France
CATEGORIES:Salon - Exposition
ATTACH;FMTTYPE=image/png:https://www.toulousecongres.com/wp-content/uploads/2024/03/Sans-titre-2.png
END:VEVENT
BEGIN:VEVENT
DTSTART;TZID=Europe/Paris:20270714T090000
DTEND;TZID=Europe/Paris:20270714T180000
DTSTAMP:20260421T142010
CREATED:20260310T144853Z
LAST-MODIFIED:20260310T144853Z
UID:2559-1815555600-1815588000@www.toulousecongres.com
SUMMARY:Spectacle des Séniors du 14 juillet 2027
DESCRIPTION:Mairie de Toulouse – Solidarité de la Santé
URL:https://www.toulousecongres.com/evenement/spectacle-des-seniors-du-14-juillet-2027/
LOCATION:Centre de Congrès Pierre Baudis\, 11 Esp. Compans Caffarelli\, TOULOUSE\, 31000\, France
CATEGORIES:Spectacle - Festival
ATTACH;FMTTYPE=image/png:https://www.toulousecongres.com/wp-content/uploads/2024/03/BAT-BAUDIS.png
END:VEVENT
BEGIN:VEVENT
DTSTART;TZID=Europe/Paris:20270919T210000
DTEND;TZID=Europe/Paris:20270924T220000
DTSTAMP:20260421T142010
CREATED:20260323T145859Z
LAST-MODIFIED:20260323T145859Z
UID:2576-1821387600-1821823200@www.toulousecongres.com
SUMMARY:Europlanet Science Congress (EPSC)
DESCRIPTION:L’Europlanet Science Congress (EPSC) est le principal rendez-vous européen pour les sciences planétaires. Initialement connu sous le nom de European Planetary Science Congress\, le premier EPSC s’est tenu à Berlin en 2006. L’EPSC compte jusqu’à 1 500 participants et constitue la réunion annuelle de l’Europlanet Society. Les réunions de l’EPSC couvrent l’ensemble des sciences planétaires et ont un style interactif distinctif\, avec un large mélange de conférences\, d’ateliers et de posters\, destinés à fournir un environnement stimulant pour que la communauté se réunisse chaque année. \nLe Comité Local d’Organisation de l’EPSC 2027 sera composé de membres de l’ISAE-SUPAERO et de l’IRAP. \n.
URL:https://www.toulousecongres.com/evenement/europlanet-science-congress-epsc/
LOCATION:Centre de Congrès Pierre Baudis\, 11 Esp. Compans Caffarelli\, TOULOUSE\, 31000\, France
CATEGORIES:Congrès
END:VEVENT
BEGIN:VEVENT
DTSTART;TZID=Europe/Paris:20271002T080000
DTEND;TZID=Europe/Paris:20271003T170000
DTSTAMP:20260421T142010
CREATED:20251104T113658Z
LAST-MODIFIED:20260227T143048Z
UID:2243-1822464000-1822582800@www.toulousecongres.com
SUMMARY:REAGSO 2027
DESCRIPTION:Plus d’informations ici.
URL:https://www.toulousecongres.com/evenement/reagso-2027/
LOCATION:Centre de Congrès Pierre Baudis\, 11 Esp. Compans Caffarelli\, TOULOUSE\, 31000\, France
CATEGORIES:Congrès
ATTACH;FMTTYPE=image/png:https://www.toulousecongres.com/wp-content/uploads/2024/03/BAT-BAUDIS.png
END:VEVENT
BEGIN:VEVENT
DTSTART;VALUE=DATE:20271120
DTEND;VALUE=DATE:20271121
DTSTAMP:20260421T142010
CREATED:20260323T151619Z
LAST-MODIFIED:20260323T152012Z
UID:2579-1826668800-1826755199@www.toulousecongres.com
SUMMARY:Preuves & Pratiques 2027
DESCRIPTION:Preuves & Pratiques\, depuis 2003\, s’est positionné comme un projet global d’information et de formation destiné à ce monde bien particulier qu’est la médecine générale.
URL:https://www.toulousecongres.com/evenement/preuves-pratiques-2027/
LOCATION:Centre de Congrès Pierre Baudis\, 11 Esp. Compans Caffarelli\, TOULOUSE\, 31000\, France
CATEGORIES:Congrès
ATTACH;FMTTYPE=image/png:https://www.toulousecongres.com/wp-content/uploads/2024/03/BAT-BAUDIS.png
END:VEVENT
BEGIN:VEVENT
DTSTART;VALUE=DATE:20271123
DTEND;VALUE=DATE:20271124
DTSTAMP:20260421T142010
CREATED:20260223T142008Z
LAST-MODIFIED:20260223T142008Z
UID:2517-1826928000-1827014399@www.toulousecongres.com
SUMMARY:17ème Congrès Rayons X & Matière
DESCRIPTION:17ème Congrès Rayons X & Matière
URL:https://www.toulousecongres.com/evenement/17eme-congres-rayons-x-matiere/
LOCATION:Centre de Congrès Pierre Baudis\, 11 Esp. Compans Caffarelli\, TOULOUSE\, 31000\, France
CATEGORIES:Congrès
ATTACH;FMTTYPE=image/png:https://www.toulousecongres.com/wp-content/uploads/2024/03/BAT-BAUDIS.png
END:VEVENT
BEGIN:VEVENT
DTSTART;TZID=Europe/Paris:20271210T090000
DTEND;TZID=Europe/Paris:20271210T180000
DTSTAMP:20260421T142010
CREATED:20260310T151931Z
LAST-MODIFIED:20260310T151931Z
UID:2561-1828429200-1828461600@www.toulousecongres.com
SUMMARY:Festivités Séniors 2027
DESCRIPTION:
URL:https://www.toulousecongres.com/evenement/festivites-seniors-2027/
LOCATION:Centre de Congrès Pierre Baudis\, 11 Esp. Compans Caffarelli\, TOULOUSE\, 31000\, France
CATEGORIES:Soirée - Gala
ATTACH;FMTTYPE=image/png:https://www.toulousecongres.com/wp-content/uploads/2024/03/BAT-BAUDIS.png
END:VEVENT
BEGIN:VEVENT
DTSTART;TZID=Europe/Paris:20280512T090000
DTEND;TZID=Europe/Paris:20280513T180000
DTSTAMP:20260421T142010
CREATED:20260316T115219Z
LAST-MODIFIED:20260316T115219Z
UID:2569-1841734800-1841853600@www.toulousecongres.com
SUMMARY:Congrès SFFRV 2028
DESCRIPTION:Plus d’informations
URL:https://www.toulousecongres.com/evenement/congres-sffrv-2028/
LOCATION:Centre de Congrès Pierre Baudis\, 11 Esp. Compans Caffarelli\, TOULOUSE\, 31000\, France
CATEGORIES:Congrès
ATTACH;FMTTYPE=image/png:https://www.toulousecongres.com/wp-content/uploads/2024/03/BAT-BAUDIS.png
END:VEVENT
END:VCALENDAR