BEGIN:VCALENDAR
VERSION:2.0
PRODID:-//Toulouse Congrès - ECPv6.15.17//NONSGML v1.0//EN
CALSCALE:GREGORIAN
METHOD:PUBLISH
X-ORIGINAL-URL:https://www.toulousecongres.com
X-WR-CALDESC:Évènements pour Toulouse Congrès
REFRESH-INTERVAL;VALUE=DURATION:PT1H
X-Robots-Tag:noindex
X-PUBLISHED-TTL:PT1H
BEGIN:VTIMEZONE
TZID:Europe/Paris
BEGIN:DAYLIGHT
TZOFFSETFROM:+0100
TZOFFSETTO:+0200
TZNAME:CEST
DTSTART:20240331T010000
END:DAYLIGHT
BEGIN:STANDARD
TZOFFSETFROM:+0200
TZOFFSETTO:+0100
TZNAME:CET
DTSTART:20241027T010000
END:STANDARD
BEGIN:DAYLIGHT
TZOFFSETFROM:+0100
TZOFFSETTO:+0200
TZNAME:CEST
DTSTART:20250330T010000
END:DAYLIGHT
BEGIN:STANDARD
TZOFFSETFROM:+0200
TZOFFSETTO:+0100
TZNAME:CET
DTSTART:20251026T010000
END:STANDARD
BEGIN:DAYLIGHT
TZOFFSETFROM:+0100
TZOFFSETTO:+0200
TZNAME:CEST
DTSTART:20260329T010000
END:DAYLIGHT
BEGIN:STANDARD
TZOFFSETFROM:+0200
TZOFFSETTO:+0100
TZNAME:CET
DTSTART:20261025T010000
END:STANDARD
END:VTIMEZONE
BEGIN:VEVENT
DTSTART;VALUE=DATE:20250117
DTEND;VALUE=DATE:20250118
DTSTAMP:20260424T123756
CREATED:20240910T101745Z
LAST-MODIFIED:20241128T141226Z
UID:1574-1737072000-1737158399@www.toulousecongres.com
SUMMARY:Anne TUFFIGO  Les signes de l'au-delà
DESCRIPTION:Anne Tuffigo est médium\, écrivaine et conférencière. Si elle découvre très jeune qu’elle a le don de communiquer avec les défunts\, ce n’est qu’en 2004 – à la suite du décès de sa mère et alors qu’elle mène une brillante carrière de professeure de Lettres modernes – qu’elle décide de mettre ses capacités médiumniques au service des autres. Elle s’installe comme médium spirite à Paris et donne de nombreuses conférences à travers la France. \nBilletterie évènement : ici
URL:https://www.toulousecongres.com/evenement/anne-tuffigo-les-signes-de-lau-dela/
LOCATION:Centre de Congrès Pierre Baudis\, 11 Esp. Compans Caffarelli\, TOULOUSE\, 31000\, France
CATEGORIES:Spectacle - Festival
END:VEVENT
END:VCALENDAR